BEGIN:VCALENDAR
VERSION:2.0
PRODID:-//Birthwise Wellness Center - ECPv6.15.15//NONSGML v1.0//EN
CALSCALE:GREGORIAN
METHOD:PUBLISH
X-WR-CALNAME:Birthwise Wellness Center
X-ORIGINAL-URL:https://www.birthwisewellnesscenter.com
X-WR-CALDESC:Events for Birthwise Wellness Center
REFRESH-INTERVAL;VALUE=DURATION:PT1H
X-Robots-Tag:noindex
X-PUBLISHED-TTL:PT1H
BEGIN:VTIMEZONE
TZID:UTC
BEGIN:STANDARD
TZOFFSETFROM:+0000
TZOFFSETTO:+0000
TZNAME:UTC
DTSTART:20250101T000000
END:STANDARD
END:VTIMEZONE
BEGIN:VEVENT
DTSTART;TZID=UTC:20260504T180000
DTEND;TZID=UTC:20260518T203000
DTSTAMP:20260423T104121
CREATED:20260205T165603Z
LAST-MODIFIED:20260323T182634Z
UID:6092-1777917600-1779136200@www.birthwisewellnesscenter.com
SUMMARY:Empowered Beginnings- Birth and Breastfeeding May Series
DESCRIPTION:Join BirthWise Doulas and Latched Fox Valley for Empowered Beginnings: Birth and Breastfeeding Education Series! \nAn in-person\, 3 class series to learn all the birthing and breastfeeding basics at BirthWise \nFirst Class – Monday\, May 4th 6:00pm-8:30pm \nSecond Class – Monday\, May 11th 6:00pm-8:30pm \nThird Class – Monday\, May 18th 6:00pm-8:30pm \n***This Class is HSA/FSA eligible
URL:https://www.birthwisewellnesscenter.com/event/empowered-beginnings-birth-and-breastfeeding-may-series/
LOCATION:BirthWise Wellness Center\, 301 E 1st Avenue\, Appleton\, WI\, 54911\, United States
END:VEVENT
BEGIN:VEVENT
DTSTART;TZID=UTC:20260507T100000
DTEND;TZID=UTC:20260507T110000
DTSTAMP:20260423T104121
CREATED:20260225T165338Z
LAST-MODIFIED:20260225T165338Z
UID:6140-1778148000-1778151600@www.birthwisewellnesscenter.com
SUMMARY:Moms & Mugs
DESCRIPTION:Join Latched Fox Valley at BirthWise Wellness Center the first Thursday of every month at 10 am for Mugs & Moms!\nCome for community\, peer support\, and of course\, COFFEE! \nOur support groups are free to the community\, you do not need to be a Latched or BirthWise client. \n***While we do not provide one on one lactation support at these groups\, we are able to provide assistance with weighing your baby.
URL:https://www.birthwisewellnesscenter.com/event/moms-mugs-3/
LOCATION:BirthWise Wellness Center\, 301 E 1st Avenue\, Appleton\, WI\, 54911\, United States
END:VEVENT
END:VCALENDAR