BEGIN:VCALENDAR
VERSION:2.0
PRODID:-//Birthwise Wellness Center - ECPv6.15.15//NONSGML v1.0//EN
CALSCALE:GREGORIAN
METHOD:PUBLISH
X-ORIGINAL-URL:https://www.birthwisewellnesscenter.com
X-WR-CALDESC:Events for Birthwise Wellness Center
REFRESH-INTERVAL;VALUE=DURATION:PT1H
X-Robots-Tag:noindex
X-PUBLISHED-TTL:PT1H
BEGIN:VTIMEZONE
TZID:UTC
BEGIN:STANDARD
TZOFFSETFROM:+0000
TZOFFSETTO:+0000
TZNAME:UTC
DTSTART:20250101T000000
END:STANDARD
END:VTIMEZONE
BEGIN:VEVENT
DTSTART;TZID=UTC:20260302T180000
DTEND;TZID=UTC:20260316T203000
DTSTAMP:20260423T105934
CREATED:20260205T165403Z
LAST-MODIFIED:20260205T171316Z
UID:6090-1772474400-1773693000@www.birthwisewellnesscenter.com
SUMMARY:Empowered Beginnings: Birth and Breastfeeding-March Series
DESCRIPTION:Join BirthWise Doulas and Latched Fox Valley for Empowered Beginnings: Birth and Breastfeeding Education Series! \nAn in-person\, 3 class series to learn all the birthing and breastfeeding basics at BirthWise Wellness Center \nFirst Class – Monday\, March 2nd 6pm-8:30pm \nSecond Class – Monday\, March 9th 6pm-8:30pm \nThird Class – Monday\, March 16th 6pm-8:30pm \n***This Class is HSA/FSA eligible
URL:https://www.birthwisewellnesscenter.com/event/empowered-beginnings-birth-and-breastfeeding-march-series/
LOCATION:BirthWise Wellness Center\, 301 E 1st Avenue\, Appleton\, WI\, 54911\, United States
END:VEVENT
BEGIN:VEVENT
DTSTART;TZID=UTC:20260305T100000
DTEND;TZID=UTC:20260305T110000
DTSTAMP:20260423T105934
CREATED:20260225T164939Z
LAST-MODIFIED:20260225T164939Z
UID:6137-1772704800-1772708400@www.birthwisewellnesscenter.com
SUMMARY:Moms & Mugs
DESCRIPTION:Join Latched Fox Valley at BirthWise Wellness Center the first Thursday of every month at 10 am for Mugs & Moms!\nCome for community\, peer support\, and of course\, COFFEE! \nOur support groups are free to the community\, you do not need to be a Latched or BirthWise client. \n***While we do not provide one on one lactation support at these groups\, we are able to provide assistance with weighing your baby.
URL:https://www.birthwisewellnesscenter.com/event/moms-mugs/
LOCATION:BirthWise Wellness Center\, 301 E 1st Avenue\, Appleton\, WI\, 54911\, United States
END:VEVENT
BEGIN:VEVENT
DTSTART;TZID=UTC:20260321T090000
DTEND;TZID=UTC:20260321T130000
DTSTAMP:20260423T105934
CREATED:20260225T174428Z
LAST-MODIFIED:20260225T174428Z
UID:6158-1774083600-1774098000@www.birthwisewellnesscenter.com
SUMMARY:Green Bay Parenting Expo
DESCRIPTION:Join us for the Expo at Thornberry Creek in Green Bay\n\n\n\n\n\n\n\n\nInvite a friend! Or 2 or 5! This isn’t just about pregnancy\, newborns\, and parenting\, this is about learning the various resources to better support your family. Grandma/Grandpas\, Auntie/Uncles\, Stepmom/Stepdads… this expo is for all of us. \n\n\nFamily Fun! Bring all the kids and check out all the activities that will be fun for all ages. \n\n\nPlan to stay the entire time! Between our amazing vendors\, activities and entertainment time will fly. Food will be available for purchase. \n\n\nMany giveaways will be happening at each of the vendor’s tables\, if you want to skip having to write your contact info\, premake some! \n\n\nBring a bag as you will want to collect information on so many resources!
URL:https://www.birthwisewellnesscenter.com/event/green-bay-parenting-expo/
LOCATION:Thornberry Creek\, 4470 N Pine Tree Rd\, Oneida\, WI\, 54155
END:VEVENT
END:VCALENDAR