BEGIN:VCALENDAR
VERSION:2.0
PRODID:-//Birthwise Wellness Center - ECPv6.15.15//NONSGML v1.0//EN
CALSCALE:GREGORIAN
METHOD:PUBLISH
X-WR-CALNAME:Birthwise Wellness Center
X-ORIGINAL-URL:https://www.birthwisewellnesscenter.com
X-WR-CALDESC:Events for Birthwise Wellness Center
REFRESH-INTERVAL;VALUE=DURATION:PT1H
X-Robots-Tag:noindex
X-PUBLISHED-TTL:PT1H
BEGIN:VTIMEZONE
TZID:UTC
BEGIN:STANDARD
TZOFFSETFROM:+0000
TZOFFSETTO:+0000
TZNAME:UTC
DTSTART:20230101T000000
END:STANDARD
END:VTIMEZONE
BEGIN:VEVENT
DTSTART;TZID=UTC:20241217T183000
DTEND;TZID=UTC:20241217T193000
DTSTAMP:20260423T210552
CREATED:20241120T172919Z
LAST-MODIFIED:20241121T181558Z
UID:5524-1734460200-1734463800@www.birthwisewellnesscenter.com
SUMMARY:Dec 17 - BWC Consultation and Tour
DESCRIPTION:Tuesday December 17th\, FREE evening open group consultation and tour with Midwife Sara Hansman LM\, CPM. \nYou will have an opportunity to get your questions answered and find out if having a home or birth center birth with BirthWise is the right option for you! Reserve today at birthwisewellnesscenter.com/consultation or call 920.574.3074.
URL:https://www.birthwisewellnesscenter.com/event/bwc-consultation-and-tour/
LOCATION:BirthWise Wellness Center\, 301 E 1st Avenue\, Appleton\, WI\, 54911\, United States
ATTACH;FMTTYPE=image/png:https://www.birthwisewellnesscenter.com/wp-content/uploads/2024/11/Brown-Professional-Virtual-Property-Tour-Real-Estate-Agency-Instagram-Post-e1732212947419.png
END:VEVENT
BEGIN:VEVENT
DTSTART;TZID=UTC:20241216T180000
DTEND;TZID=UTC:20241216T200000
DTSTAMP:20260423T210552
CREATED:20241121T182855Z
LAST-MODIFIED:20241126T154710Z
UID:5591-1734372000-1734379200@www.birthwisewellnesscenter.com
SUMMARY:Dec 16 - Breastfeeding Prep Course
DESCRIPTION:Join Us for the Breastfeeding Prep Course! \nDate: Monday\, December 16\, 2024\nTime: 6:00 PM – 8:00 PM\nLocation: BirthWise Wellness Center \nAre you preparing for your breastfeeding journey? Don’t miss this comprehensive and empowering Breastfeeding Prep Course hosted by Mal’s Milky Way\, designed to help you feel confident and ready to nourish your baby. \nWhat’s Included?\n✔ Exploring breastfeeding challenges and solutions\n✔ Why breast milk is incredible\n✔ Baby-led feeding and latching tips\n✔ Skin-to-skin bonding benefits\n✔ Expression and bottle-feeding techniques\n✔ Essential items for breastfeeding success\n✔ Guidance on recognizing if your baby is getting enough\n…and more! \nThis course is perfect for expecting parents or anyone who wants to deepen their understanding of breastfeeding and overcome potential bumps in the road. \n💡 Reserve your spot now and be part of a supportive learning environment!\nCLICK HERE
URL:https://www.birthwisewellnesscenter.com/event/dec-16-breastfeeding-prep-course/
LOCATION:BirthWise Wellness Center\, 301 E 1st Avenue\, Appleton\, WI\, 54911\, United States
ATTACH;FMTTYPE=image/png:https://www.birthwisewellnesscenter.com/wp-content/uploads/2024/09/download-3f9-e1732213519738.png
END:VEVENT
BEGIN:VEVENT
DTSTART;TZID=UTC:20241211T190000
DTEND;TZID=UTC:20241211T200000
DTSTAMP:20260423T210552
CREATED:20241121T202532Z
LAST-MODIFIED:20241122T142719Z
UID:5626-1733943600-1733947200@www.birthwisewellnesscenter.com
SUMMARY:Dec 11 - Free 'Pregnancy & Chiropractic Care' Health Talk
DESCRIPTION:Join Foundation Chiropractic for a Free Health Talk about why Chiropractic Care is beneficial before\, during\, and after pregnancy. Helpful tips & tricks to help you feeling good during pregnancy. Refreshments will be provided! \nTo reserve your spot\, please contact Foundation Chiropractic at (920) 430-0933 or info@fcc4health.com today!
URL:https://www.birthwisewellnesscenter.com/event/dec-11-free-pregnancy-chiropractic-care-health-talk/
LOCATION:BirthWise Wellness Center\, 301 E 1st Avenue\, Appleton\, WI\, 54911\, United States
ATTACH;FMTTYPE=image/png:https://www.birthwisewellnesscenter.com/wp-content/uploads/2024/11/images-e1732220378518.png
ORGANIZER;CN="Foundation Chiropractic":MAILTO:info@fcc4health.com
END:VEVENT
END:VCALENDAR