BEGIN:VCALENDAR
VERSION:2.0
PRODID:-//Birthwise Wellness Center - ECPv6.15.15//NONSGML v1.0//EN
CALSCALE:GREGORIAN
METHOD:PUBLISH
X-ORIGINAL-URL:https://www.birthwisewellnesscenter.com
X-WR-CALDESC:Events for Birthwise Wellness Center
REFRESH-INTERVAL;VALUE=DURATION:PT1H
X-Robots-Tag:noindex
X-PUBLISHED-TTL:PT1H
BEGIN:VTIMEZONE
TZID:UTC
BEGIN:STANDARD
TZOFFSETFROM:+0000
TZOFFSETTO:+0000
TZNAME:UTC
DTSTART:20250101T000000
END:STANDARD
END:VTIMEZONE
BEGIN:VEVENT
DTSTART;TZID=UTC:20261123T180000
DTEND;TZID=UTC:20261123T193000
DTSTAMP:20260423T171826
CREATED:20260310T190349Z
LAST-MODIFIED:20260310T190841Z
UID:6174-1795456800-1795462200@www.birthwisewellnesscenter.com
SUMMARY:Friends and Family CPR 
DESCRIPTION:Join us for a Friends & Family CPR Class!\n• Learn how to calmly and effectively respond in an emergency situation.\n• Taught by trained and experienced nurses.\n• If you would like to attend the class with a group of more than 2 people\, please select an additional registration ($10 for each additional attendee)\, or reach out for a private session.\n• This class does not provide any registrants with a CPR card or certification of any kind *(Ex: if you are a provider and need BLS certification\, you will need to seek out AHA or Red Cross certification).\n• We discuss ways to support brand new infants\, supporting 6 month old babies through introducing solids\, baby proofing the house with identification of common choking hazards\, and supporting toddlers with feeding and choking hazards as well.\n\nPlease click on the link below and then scroll down to Classes on the right.
URL:https://www.birthwisewellnesscenter.com/event/friends-and-family-cpr/
LOCATION:BirthWise Wellness Center\, 301 E 1st Avenue\, Appleton\, WI\, 54911\, United States
END:VEVENT
BEGIN:VEVENT
DTSTART;TZID=UTC:20261203T100000
DTEND;TZID=UTC:20261203T110000
DTSTAMP:20260423T171826
CREATED:20260225T170321Z
LAST-MODIFIED:20260323T183555Z
UID:6153-1796292000-1796295600@www.birthwisewellnesscenter.com
SUMMARY:Moms & Mugs
DESCRIPTION:Join Latched Fox Valley at BirthWise Wellness Center the first Thursday of every month at 10 am for Mugs & Moms!\nCome for community\, peer support\, and of course\, COFFEE! \nOur support groups are free to the community\, you do not need to be a Latched or BirthWise client. \n***While we do not provide one on one lactation support at these groups\, we are able to provide assistance with weighing your baby.
URL:https://www.birthwisewellnesscenter.com/event/moms-mugs-8/
LOCATION:BirthWise Wellness Center\, 301 E 1st Avenue\, Appleton\, WI\, 54911\, United States
END:VEVENT
END:VCALENDAR